BEGIN:VCALENDAR
VERSION:2.0
PRODID:-//Heron Haven - ECPv6.15.20//NONSGML v1.0//EN
CALSCALE:GREGORIAN
METHOD:PUBLISH
X-WR-CALNAME:Heron Haven
X-ORIGINAL-URL:https://heronhaven.org
X-WR-CALDESC:Events for Heron Haven
REFRESH-INTERVAL;VALUE=DURATION:PT1H
X-Robots-Tag:noindex
X-PUBLISHED-TTL:PT1H
BEGIN:VTIMEZONE
TZID:UTC
BEGIN:STANDARD
TZOFFSETFROM:+0000
TZOFFSETTO:+0000
TZNAME:UTC
DTSTART:20220101T000000
END:STANDARD
END:VTIMEZONE
BEGIN:VEVENT
DTSTART;TZID=UTC:20231216T093000
DTEND;TZID=UTC:20231216T103000
DTSTAMP:20260425T042130
CREATED:20231108T010052Z
LAST-MODIFIED:20231108T010052Z
UID:772-1702719000-1702722600@heronhaven.org
SUMMARY:December Photography Club
DESCRIPTION:Join us for Heron Haven’s December Photography Club meeting!  Theme TBD. If you want a photo or a few showcased during the clubs next meeting\, please email them to Craig. (Contact info below)\n\nThe club is led by Craig Horobik with assistance from Mike Benkis. Craig is an adventure photographer that frequently travels to various National Parks\, and Mike is an award-winning professional wildlife photographer. Both teach photography at Omaha’s Henry Doorly Zoo.\n\nThis club is available to all Heron Haven Members. A link to become a member is at the bottom or on the Heron Haven website.\n\nPhotography Club will meet on a monthly basis to better photography skills\, participate in fun challenges\, and create a community of nature photographers. The club is open to all ages\, but we ask that children are accompanied by an adult.\n\nWe cannot wait to snap some photos with all the photography enthusiasts out there!\n\nClub Contact: craighorobik@gmail.com\nHeron Haven Membership: https://heronhaven.org/become-a-member/
URL:https://heronhaven.org/event/december-photography-club/
LOCATION:Heron Haven Nature Center\, 11809 Old Maple Rd\, Omaha\, NE\, 68164\, United States
END:VEVENT
END:VCALENDAR