BEGIN:VCALENDAR
VERSION:2.0
PRODID:-//Heron Haven - ECPv6.15.20//NONSGML v1.0//EN
CALSCALE:GREGORIAN
METHOD:PUBLISH
X-ORIGINAL-URL:https://heronhaven.org
X-WR-CALDESC:Events for Heron Haven
REFRESH-INTERVAL;VALUE=DURATION:PT1H
X-Robots-Tag:noindex
X-PUBLISHED-TTL:PT1H
BEGIN:VTIMEZONE
TZID:UTC
BEGIN:STANDARD
TZOFFSETFROM:+0000
TZOFFSETTO:+0000
TZNAME:UTC
DTSTART:20230101T000000
END:STANDARD
END:VTIMEZONE
BEGIN:VEVENT
DTSTART;VALUE=DATE:20240301
DTEND;VALUE=DATE:20270101
DTSTAMP:20260424T204300
CREATED:20230824T211053Z
LAST-MODIFIED:20251231T193536Z
UID:652-1709251200-1798761599@heronhaven.org
SUMMARY:REOCCURRING EVENT: QR Self-Guided Tour at Heron Haven
DESCRIPTION:Our QR self-guided tour is an incredible outdoor recreational activity\, in which individuals or groups use the camera on their mobile device to scan the QR codes along the trail. These QR codes will identify an education opportunity in that area in which you will need to use your eyes and ears to observe. \nIndividuals and groups can participate year-round at Heron Haven. Click on the links for helpful hints: \n\nQR #1 – Bee Houses\nQR #2 – The Butterfly Garden\nQR #3 – Trail Head Kiosk\nQR #4 – Decaying Log\nQR #5 – Black Walnuts\nQR #6 – Pond\nQR #7 – Boardwalk\nQR #8 – End of Boardwalk\nQR #9 – Beaver Sign\nQR #10 – Bat house\nQR #11 – Photo Blind\nQR #12 – Caterpillar Garden\nQR #13 – Path to Treeless area\nQR #14 – Treeless area
URL:https://heronhaven.org/event/reoccurring-event-qr-self-guided-at-heron-haven/
LOCATION:NE
END:VEVENT
BEGIN:VEVENT
DTSTART;TZID=UTC:20240427T093000
DTEND;TZID=UTC:20240427T103000
DTSTAMP:20260424T204300
CREATED:20240406T211437Z
LAST-MODIFIED:20240406T211453Z
UID:839-1714210200-1714213800@heronhaven.org
SUMMARY:April Photography Club
DESCRIPTION:Date: April 27th at 9:30 AM\nLocation: 11809 Old Maple Rd\, Omaha\, NE 68164\n\n\nJoin us for Heron Haven’s April Photography Club meeting!  If you want a photo or a few showcased during the clubs next meeting\, please email them to Craig. (Contact info below)\n\nThe club is led by Craig Horobik with assistance from Mike Benkis. Craig is an adventure photographer that frequently travels to various National Parks\, and Mike is an award-winning professional wildlife photographer. Both teach photography at Omaha’s Henry Doorly Zoo.\n\nThis club is available to all Heron Haven Members. A link to become a member is at the bottom or on the Heron Haven website.\nPhotography Club will meet on a monthly basis to better photography skills\, participate in fun challenges\, and create a community of nature photographers. The club is open to all ages\, but we ask that children are accompanied by an adult.\n\nWe cannot wait to snap some photos with all the photography enthusiasts out there!\n\nClub Contact: craighorobik@gmail.com\nHeron Haven Membership: https://heronhaven.org/become-a-member/
URL:https://heronhaven.org/event/april-photography-club/
LOCATION:Heron Haven Nature Center\, 11809 Old Maple Rd\, Omaha\, NE\, 68164\, United States
END:VEVENT
BEGIN:VEVENT
DTSTART;TZID=UTC:20240427T130000
DTEND;TZID=UTC:20240427T150000
DTSTAMP:20260424T204300
CREATED:20240406T211045Z
LAST-MODIFIED:20240406T211045Z
UID:836-1714222800-1714230000@heronhaven.org
SUMMARY:2024 City Nature Challenge
DESCRIPTION:Who can be a citizen scientist? Anyone!\nCitizen science is when the public voluntarily helps conduct scientific research. Citizen scientists may design experiments\, collect data\, analyze results\, and solve problems.\nhttps://www.citynaturechallenge.org/\nBecome a Citizen Scientist while at Heron Haven! Help share your observations of nature for science\n*Bring your smart phone/camera\n*Download iNaturalist app to your phone/computer\n*Volunteers will be there to assist\nHow can you help with this project? – https://www.citynaturechallenge.org/participate\nJoin us at Heron Haven for the annual nature excursion and record what you find by uploading your pictures to iNaturalist app.
URL:https://heronhaven.org/event/2024-city-nature-challenge/
LOCATION:Heron Haven Nature Center\, 11809 Old Maple Rd\, Omaha\, NE\, 68164\, United States
END:VEVENT
END:VCALENDAR